BEGIN:VCALENDAR
VERSION:2.0
PRODID:-//La Molineuvoise - ECPv6.15.20//NONSGML v1.0//EN
CALSCALE:GREGORIAN
METHOD:PUBLISH
X-WR-CALNAME:La Molineuvoise
X-ORIGINAL-URL:https://lamolineuvoise.fr/blog
X-WR-CALDESC:Évènements pour La Molineuvoise
REFRESH-INTERVAL;VALUE=DURATION:PT1H
X-Robots-Tag:noindex
X-PUBLISHED-TTL:PT1H
BEGIN:VTIMEZONE
TZID:UTC
BEGIN:STANDARD
TZOFFSETFROM:+0000
TZOFFSETTO:+0000
TZNAME:UTC
DTSTART:20250101T000000
END:STANDARD
END:VTIMEZONE
BEGIN:VEVENT
DTSTART;TZID=UTC:20260510T073000
DTEND;TZID=UTC:20260510T130000
DTSTAMP:20260421T075934
CREATED:20260305T081736Z
LAST-MODIFIED:20260305T081751Z
UID:8081-1778398200-1778418000@lamolineuvoise.fr
SUMMARY:Randonnée Moulins en Cisse 2026
DESCRIPTION:
URL:https://lamolineuvoise.fr/blog/event/randonnee-moulins-en-cisse-2026/
LOCATION:Mairie de Valencisse\, VALENCISSE\, 41190\, France
ORGANIZER;CN="La Molineuvoise":MAILTO:lamolineuvoise@gmail.com
END:VEVENT
BEGIN:VEVENT
DTSTART;TZID=UTC:20260612T220000
DTEND;TZID=UTC:20260612T235500
DTSTAMP:20260421T075934
CREATED:20260305T081957Z
LAST-MODIFIED:20260305T081957Z
UID:8083-1781301600-1781308500@lamolineuvoise.fr
SUMMARY:Randonnée nocturne 2026
DESCRIPTION:
URL:https://lamolineuvoise.fr/blog/event/randonnee-nocturne-2026/
LOCATION:Mairie de Valencisse\, VALENCISSE\, 41190\, France
ORGANIZER;CN="La Molineuvoise":MAILTO:lamolineuvoise@gmail.com
END:VEVENT
END:VCALENDAR